BEGIN:VCALENDAR
VERSION:2.0
PRODID:-//The Carolina Opry Theater - ECPv6.15.20//NONSGML v1.0//EN
CALSCALE:GREGORIAN
METHOD:PUBLISH
X-WR-CALNAME:The Carolina Opry Theater
X-ORIGINAL-URL:https://thecarolinaopry.com
X-WR-CALDESC:Events for The Carolina Opry Theater
REFRESH-INTERVAL;VALUE=DURATION:PT1H
X-Robots-Tag:noindex
X-PUBLISHED-TTL:PT1H
BEGIN:VTIMEZONE
TZID:America/New_York
BEGIN:DAYLIGHT
TZOFFSETFROM:-0500
TZOFFSETTO:-0400
TZNAME:EDT
DTSTART:20240310T070000
END:DAYLIGHT
BEGIN:STANDARD
TZOFFSETFROM:-0400
TZOFFSETTO:-0500
TZNAME:EST
DTSTART:20241103T060000
END:STANDARD
BEGIN:DAYLIGHT
TZOFFSETFROM:-0500
TZOFFSETTO:-0400
TZNAME:EDT
DTSTART:20250309T070000
END:DAYLIGHT
BEGIN:STANDARD
TZOFFSETFROM:-0400
TZOFFSETTO:-0500
TZNAME:EST
DTSTART:20251102T060000
END:STANDARD
BEGIN:DAYLIGHT
TZOFFSETFROM:-0500
TZOFFSETTO:-0400
TZNAME:EDT
DTSTART:20260308T070000
END:DAYLIGHT
BEGIN:STANDARD
TZOFFSETFROM:-0400
TZOFFSETTO:-0500
TZNAME:EST
DTSTART:20261101T060000
END:STANDARD
END:VTIMEZONE
BEGIN:VEVENT
DTSTART;TZID=America/New_York:20251201T190000
DTEND;TZID=America/New_York:20251201T213000
DTSTAMP:20260421T090906
CREATED:20241101T140726Z
LAST-MODIFIED:20250408T183039Z
UID:10002607-1764615600-1764624600@thecarolinaopry.com
SUMMARY:The Carolina Opry Christmas Special
DESCRIPTION:
URL:https://thecarolinaopry.com/event/the-carolina-opry-christmas-special-5/2025-12-01/
LOCATION:The Carolina Opry\, 8901 N Kings Hwy\, Myrtle Beach\, SC\, 29572\, United States
CATEGORIES:Evening,The Christmas Show of the South
ATTACH;FMTTYPE=image/png:https://thecarolinaopry.com/wp-content/uploads/2024/11/TCOCSThumbnail-e1766425098140.png
END:VEVENT
BEGIN:VEVENT
DTSTART;TZID=America/New_York:20251202T130000
DTEND;TZID=America/New_York:20251202T153000
DTSTAMP:20260421T090907
CREATED:20241101T140748Z
LAST-MODIFIED:20241217T202828Z
UID:10002639-1764680400-1764689400@thecarolinaopry.com
SUMMARY:The Carolina Opry Christmas Special
DESCRIPTION:
URL:https://thecarolinaopry.com/event/the-carolina-opry-christmas-special-6/2025-12-02/
LOCATION:The Carolina Opry\, 8901 N Kings Hwy\, Myrtle Beach\, SC\, 29572\, United States
CATEGORIES:Matinee,The Christmas Show of the South
ATTACH;FMTTYPE=image/png:https://thecarolinaopry.com/wp-content/uploads/2024/11/TCOCSThumbnail-e1766425098140.png
END:VEVENT
BEGIN:VEVENT
DTSTART;TZID=America/New_York:20251202T190000
DTEND;TZID=America/New_York:20251202T213000
DTSTAMP:20260421T090907
CREATED:20241101T140726Z
LAST-MODIFIED:20250408T183039Z
UID:10002608-1764702000-1764711000@thecarolinaopry.com
SUMMARY:The Carolina Opry Christmas Special
DESCRIPTION:
URL:https://thecarolinaopry.com/event/the-carolina-opry-christmas-special-5/2025-12-02/
LOCATION:The Carolina Opry\, 8901 N Kings Hwy\, Myrtle Beach\, SC\, 29572\, United States
CATEGORIES:Evening,The Christmas Show of the South
ATTACH;FMTTYPE=image/png:https://thecarolinaopry.com/wp-content/uploads/2024/11/TCOCSThumbnail-e1766425098140.png
END:VEVENT
BEGIN:VEVENT
DTSTART;TZID=America/New_York:20251203T190000
DTEND;TZID=America/New_York:20251203T213000
DTSTAMP:20260421T090907
CREATED:20241101T140726Z
LAST-MODIFIED:20250408T183039Z
UID:10002609-1764788400-1764797400@thecarolinaopry.com
SUMMARY:The Carolina Opry Christmas Special
DESCRIPTION:
URL:https://thecarolinaopry.com/event/the-carolina-opry-christmas-special-5/2025-12-03/
LOCATION:The Carolina Opry\, 8901 N Kings Hwy\, Myrtle Beach\, SC\, 29572\, United States
CATEGORIES:Evening,The Christmas Show of the South
ATTACH;FMTTYPE=image/png:https://thecarolinaopry.com/wp-content/uploads/2024/11/TCOCSThumbnail-e1766425098140.png
END:VEVENT
BEGIN:VEVENT
DTSTART;TZID=America/New_York:20251204T130000
DTEND;TZID=America/New_York:20251204T153000
DTSTAMP:20260421T090907
CREATED:20241101T140748Z
LAST-MODIFIED:20241217T202828Z
UID:10002928-1764853200-1764862200@thecarolinaopry.com
SUMMARY:The Carolina Opry Christmas Special
DESCRIPTION:
URL:https://thecarolinaopry.com/event/the-carolina-opry-christmas-special-6/2025-12-04/
LOCATION:The Carolina Opry\, 8901 N Kings Hwy\, Myrtle Beach\, SC\, 29572\, United States
CATEGORIES:Matinee,The Christmas Show of the South
ATTACH;FMTTYPE=image/png:https://thecarolinaopry.com/wp-content/uploads/2024/11/TCOCSThumbnail-e1766425098140.png
END:VEVENT
BEGIN:VEVENT
DTSTART;TZID=America/New_York:20251204T190000
DTEND;TZID=America/New_York:20251204T213000
DTSTAMP:20260421T090907
CREATED:20241101T140726Z
LAST-MODIFIED:20250408T183039Z
UID:10002610-1764874800-1764883800@thecarolinaopry.com
SUMMARY:The Carolina Opry Christmas Special
DESCRIPTION:
URL:https://thecarolinaopry.com/event/the-carolina-opry-christmas-special-5/2025-12-04/
LOCATION:The Carolina Opry\, 8901 N Kings Hwy\, Myrtle Beach\, SC\, 29572\, United States
CATEGORIES:Evening,The Christmas Show of the South
ATTACH;FMTTYPE=image/png:https://thecarolinaopry.com/wp-content/uploads/2024/11/TCOCSThumbnail-e1766425098140.png
END:VEVENT
BEGIN:VEVENT
DTSTART;TZID=America/New_York:20251205T190000
DTEND;TZID=America/New_York:20251205T213000
DTSTAMP:20260421T090907
CREATED:20241101T140726Z
LAST-MODIFIED:20250408T183039Z
UID:10002611-1764961200-1764970200@thecarolinaopry.com
SUMMARY:The Carolina Opry Christmas Special
DESCRIPTION:
URL:https://thecarolinaopry.com/event/the-carolina-opry-christmas-special-5/2025-12-05/
LOCATION:The Carolina Opry\, 8901 N Kings Hwy\, Myrtle Beach\, SC\, 29572\, United States
CATEGORIES:Evening,The Christmas Show of the South
ATTACH;FMTTYPE=image/png:https://thecarolinaopry.com/wp-content/uploads/2024/11/TCOCSThumbnail-e1766425098140.png
END:VEVENT
BEGIN:VEVENT
DTSTART;TZID=America/New_York:20251206T130000
DTEND;TZID=America/New_York:20251206T153000
DTSTAMP:20260421T090907
CREATED:20241101T140748Z
LAST-MODIFIED:20241217T202828Z
UID:10002641-1765026000-1765035000@thecarolinaopry.com
SUMMARY:The Carolina Opry Christmas Special
DESCRIPTION:
URL:https://thecarolinaopry.com/event/the-carolina-opry-christmas-special-6/2025-12-06/
LOCATION:The Carolina Opry\, 8901 N Kings Hwy\, Myrtle Beach\, SC\, 29572\, United States
CATEGORIES:Matinee,The Christmas Show of the South
ATTACH;FMTTYPE=image/png:https://thecarolinaopry.com/wp-content/uploads/2024/11/TCOCSThumbnail-e1766425098140.png
END:VEVENT
BEGIN:VEVENT
DTSTART;TZID=America/New_York:20251206T190000
DTEND;TZID=America/New_York:20251206T213000
DTSTAMP:20260421T090907
CREATED:20241101T140726Z
LAST-MODIFIED:20250408T183039Z
UID:10002612-1765047600-1765056600@thecarolinaopry.com
SUMMARY:The Carolina Opry Christmas Special
DESCRIPTION:
URL:https://thecarolinaopry.com/event/the-carolina-opry-christmas-special-5/2025-12-06/
LOCATION:The Carolina Opry\, 8901 N Kings Hwy\, Myrtle Beach\, SC\, 29572\, United States
CATEGORIES:Evening,The Christmas Show of the South
ATTACH;FMTTYPE=image/png:https://thecarolinaopry.com/wp-content/uploads/2024/11/TCOCSThumbnail-e1766425098140.png
END:VEVENT
BEGIN:VEVENT
DTSTART;TZID=America/New_York:20251208T190000
DTEND;TZID=America/New_York:20251208T213000
DTSTAMP:20260421T090907
CREATED:20241101T140726Z
LAST-MODIFIED:20250408T183039Z
UID:10002613-1765220400-1765229400@thecarolinaopry.com
SUMMARY:The Carolina Opry Christmas Special
DESCRIPTION:
URL:https://thecarolinaopry.com/event/the-carolina-opry-christmas-special-5/2025-12-08/
LOCATION:The Carolina Opry\, 8901 N Kings Hwy\, Myrtle Beach\, SC\, 29572\, United States
CATEGORIES:Evening,The Christmas Show of the South
ATTACH;FMTTYPE=image/png:https://thecarolinaopry.com/wp-content/uploads/2024/11/TCOCSThumbnail-e1766425098140.png
END:VEVENT
BEGIN:VEVENT
DTSTART;TZID=America/New_York:20251209T130000
DTEND;TZID=America/New_York:20251209T153000
DTSTAMP:20260421T090907
CREATED:20241101T140748Z
LAST-MODIFIED:20241217T202828Z
UID:10002642-1765285200-1765294200@thecarolinaopry.com
SUMMARY:The Carolina Opry Christmas Special
DESCRIPTION:
URL:https://thecarolinaopry.com/event/the-carolina-opry-christmas-special-6/2025-12-09/
LOCATION:The Carolina Opry\, 8901 N Kings Hwy\, Myrtle Beach\, SC\, 29572\, United States
CATEGORIES:Matinee,The Christmas Show of the South
ATTACH;FMTTYPE=image/png:https://thecarolinaopry.com/wp-content/uploads/2024/11/TCOCSThumbnail-e1766425098140.png
END:VEVENT
BEGIN:VEVENT
DTSTART;TZID=America/New_York:20251209T190000
DTEND;TZID=America/New_York:20251209T213000
DTSTAMP:20260421T090907
CREATED:20241101T140726Z
LAST-MODIFIED:20250408T183039Z
UID:10002614-1765306800-1765315800@thecarolinaopry.com
SUMMARY:The Carolina Opry Christmas Special
DESCRIPTION:
URL:https://thecarolinaopry.com/event/the-carolina-opry-christmas-special-5/2025-12-09/
LOCATION:The Carolina Opry\, 8901 N Kings Hwy\, Myrtle Beach\, SC\, 29572\, United States
CATEGORIES:Evening,The Christmas Show of the South
ATTACH;FMTTYPE=image/png:https://thecarolinaopry.com/wp-content/uploads/2024/11/TCOCSThumbnail-e1766425098140.png
END:VEVENT
BEGIN:VEVENT
DTSTART;TZID=America/New_York:20251211T130000
DTEND;TZID=America/New_York:20251211T153000
DTSTAMP:20260421T090907
CREATED:20241101T140748Z
LAST-MODIFIED:20241217T202828Z
UID:10002929-1765458000-1765467000@thecarolinaopry.com
SUMMARY:The Carolina Opry Christmas Special
DESCRIPTION:
URL:https://thecarolinaopry.com/event/the-carolina-opry-christmas-special-6/2025-12-11/
LOCATION:The Carolina Opry\, 8901 N Kings Hwy\, Myrtle Beach\, SC\, 29572\, United States
CATEGORIES:Matinee,The Christmas Show of the South
ATTACH;FMTTYPE=image/png:https://thecarolinaopry.com/wp-content/uploads/2024/11/TCOCSThumbnail-e1766425098140.png
END:VEVENT
BEGIN:VEVENT
DTSTART;TZID=America/New_York:20251211T190000
DTEND;TZID=America/New_York:20251211T213000
DTSTAMP:20260421T090907
CREATED:20241101T140726Z
LAST-MODIFIED:20250408T183039Z
UID:10002616-1765479600-1765488600@thecarolinaopry.com
SUMMARY:The Carolina Opry Christmas Special
DESCRIPTION:
URL:https://thecarolinaopry.com/event/the-carolina-opry-christmas-special-5/2025-12-11/
LOCATION:The Carolina Opry\, 8901 N Kings Hwy\, Myrtle Beach\, SC\, 29572\, United States
CATEGORIES:Evening,The Christmas Show of the South
ATTACH;FMTTYPE=image/png:https://thecarolinaopry.com/wp-content/uploads/2024/11/TCOCSThumbnail-e1766425098140.png
END:VEVENT
BEGIN:VEVENT
DTSTART;TZID=America/New_York:20251212T190000
DTEND;TZID=America/New_York:20251212T213000
DTSTAMP:20260421T090907
CREATED:20241101T140726Z
LAST-MODIFIED:20250408T183039Z
UID:10002617-1765566000-1765575000@thecarolinaopry.com
SUMMARY:The Carolina Opry Christmas Special
DESCRIPTION:
URL:https://thecarolinaopry.com/event/the-carolina-opry-christmas-special-5/2025-12-12/
LOCATION:The Carolina Opry\, 8901 N Kings Hwy\, Myrtle Beach\, SC\, 29572\, United States
CATEGORIES:Evening,The Christmas Show of the South
ATTACH;FMTTYPE=image/png:https://thecarolinaopry.com/wp-content/uploads/2024/11/TCOCSThumbnail-e1766425098140.png
END:VEVENT
BEGIN:VEVENT
DTSTART;TZID=America/New_York:20251213T130000
DTEND;TZID=America/New_York:20251213T153000
DTSTAMP:20260421T090907
CREATED:20241101T140748Z
LAST-MODIFIED:20241217T202828Z
UID:10002644-1765630800-1765639800@thecarolinaopry.com
SUMMARY:The Carolina Opry Christmas Special
DESCRIPTION:
URL:https://thecarolinaopry.com/event/the-carolina-opry-christmas-special-6/2025-12-13/
LOCATION:The Carolina Opry\, 8901 N Kings Hwy\, Myrtle Beach\, SC\, 29572\, United States
CATEGORIES:Matinee,The Christmas Show of the South
ATTACH;FMTTYPE=image/png:https://thecarolinaopry.com/wp-content/uploads/2024/11/TCOCSThumbnail-e1766425098140.png
END:VEVENT
BEGIN:VEVENT
DTSTART;TZID=America/New_York:20251213T190000
DTEND;TZID=America/New_York:20251213T213000
DTSTAMP:20260421T090907
CREATED:20241101T140726Z
LAST-MODIFIED:20250408T183039Z
UID:10002618-1765652400-1765661400@thecarolinaopry.com
SUMMARY:The Carolina Opry Christmas Special
DESCRIPTION:
URL:https://thecarolinaopry.com/event/the-carolina-opry-christmas-special-5/2025-12-13/
LOCATION:The Carolina Opry\, 8901 N Kings Hwy\, Myrtle Beach\, SC\, 29572\, United States
CATEGORIES:Evening,The Christmas Show of the South
ATTACH;FMTTYPE=image/png:https://thecarolinaopry.com/wp-content/uploads/2024/11/TCOCSThumbnail-e1766425098140.png
END:VEVENT
BEGIN:VEVENT
DTSTART;TZID=America/New_York:20251215T190000
DTEND;TZID=America/New_York:20251215T213000
DTSTAMP:20260421T090907
CREATED:20241101T140726Z
LAST-MODIFIED:20250408T183039Z
UID:10002619-1765825200-1765834200@thecarolinaopry.com
SUMMARY:The Carolina Opry Christmas Special
DESCRIPTION:
URL:https://thecarolinaopry.com/event/the-carolina-opry-christmas-special-5/2025-12-15/
LOCATION:The Carolina Opry\, 8901 N Kings Hwy\, Myrtle Beach\, SC\, 29572\, United States
CATEGORIES:Evening,The Christmas Show of the South
ATTACH;FMTTYPE=image/png:https://thecarolinaopry.com/wp-content/uploads/2024/11/TCOCSThumbnail-e1766425098140.png
END:VEVENT
BEGIN:VEVENT
DTSTART;TZID=America/New_York:20251216T130000
DTEND;TZID=America/New_York:20251216T153000
DTSTAMP:20260421T090907
CREATED:20241101T140748Z
LAST-MODIFIED:20241217T202828Z
UID:10002920-1765890000-1765899000@thecarolinaopry.com
SUMMARY:The Carolina Opry Christmas Special
DESCRIPTION:
URL:https://thecarolinaopry.com/event/the-carolina-opry-christmas-special-6/2025-12-16/
LOCATION:The Carolina Opry\, 8901 N Kings Hwy\, Myrtle Beach\, SC\, 29572\, United States
CATEGORIES:Matinee,The Christmas Show of the South
ATTACH;FMTTYPE=image/png:https://thecarolinaopry.com/wp-content/uploads/2024/11/TCOCSThumbnail-e1766425098140.png
END:VEVENT
BEGIN:VEVENT
DTSTART;TZID=America/New_York:20251216T190000
DTEND;TZID=America/New_York:20251216T213000
DTSTAMP:20260421T090907
CREATED:20241101T140726Z
LAST-MODIFIED:20250408T183039Z
UID:10002620-1765911600-1765920600@thecarolinaopry.com
SUMMARY:The Carolina Opry Christmas Special
DESCRIPTION:
URL:https://thecarolinaopry.com/event/the-carolina-opry-christmas-special-5/2025-12-16/
LOCATION:The Carolina Opry\, 8901 N Kings Hwy\, Myrtle Beach\, SC\, 29572\, United States
CATEGORIES:Evening,The Christmas Show of the South
ATTACH;FMTTYPE=image/png:https://thecarolinaopry.com/wp-content/uploads/2024/11/TCOCSThumbnail-e1766425098140.png
END:VEVENT
BEGIN:VEVENT
DTSTART;TZID=America/New_York:20251217T190000
DTEND;TZID=America/New_York:20251217T213000
DTSTAMP:20260421T090907
CREATED:20241101T140726Z
LAST-MODIFIED:20250408T183039Z
UID:10002621-1765998000-1766007000@thecarolinaopry.com
SUMMARY:The Carolina Opry Christmas Special
DESCRIPTION:
URL:https://thecarolinaopry.com/event/the-carolina-opry-christmas-special-5/2025-12-17/
LOCATION:The Carolina Opry\, 8901 N Kings Hwy\, Myrtle Beach\, SC\, 29572\, United States
CATEGORIES:Evening,The Christmas Show of the South
ATTACH;FMTTYPE=image/png:https://thecarolinaopry.com/wp-content/uploads/2024/11/TCOCSThumbnail-e1766425098140.png
END:VEVENT
BEGIN:VEVENT
DTSTART;TZID=America/New_York:20251218T190000
DTEND;TZID=America/New_York:20251218T213000
DTSTAMP:20260421T090907
CREATED:20241101T140726Z
LAST-MODIFIED:20250408T183039Z
UID:10002622-1766084400-1766093400@thecarolinaopry.com
SUMMARY:The Carolina Opry Christmas Special
DESCRIPTION:
URL:https://thecarolinaopry.com/event/the-carolina-opry-christmas-special-5/2025-12-18/
LOCATION:The Carolina Opry\, 8901 N Kings Hwy\, Myrtle Beach\, SC\, 29572\, United States
CATEGORIES:Evening,The Christmas Show of the South
ATTACH;FMTTYPE=image/png:https://thecarolinaopry.com/wp-content/uploads/2024/11/TCOCSThumbnail-e1766425098140.png
END:VEVENT
BEGIN:VEVENT
DTSTART;TZID=America/New_York:20251219T190000
DTEND;TZID=America/New_York:20251219T213000
DTSTAMP:20260421T090907
CREATED:20241101T140726Z
LAST-MODIFIED:20250408T183039Z
UID:10002623-1766170800-1766179800@thecarolinaopry.com
SUMMARY:The Carolina Opry Christmas Special
DESCRIPTION:
URL:https://thecarolinaopry.com/event/the-carolina-opry-christmas-special-5/2025-12-19/
LOCATION:The Carolina Opry\, 8901 N Kings Hwy\, Myrtle Beach\, SC\, 29572\, United States
CATEGORIES:Evening,The Christmas Show of the South
ATTACH;FMTTYPE=image/png:https://thecarolinaopry.com/wp-content/uploads/2024/11/TCOCSThumbnail-e1766425098140.png
END:VEVENT
BEGIN:VEVENT
DTSTART;TZID=America/New_York:20251220T130000
DTEND;TZID=America/New_York:20251220T153000
DTSTAMP:20260421T090907
CREATED:20241101T140748Z
LAST-MODIFIED:20241217T202828Z
UID:10002646-1766235600-1766244600@thecarolinaopry.com
SUMMARY:The Carolina Opry Christmas Special
DESCRIPTION:
URL:https://thecarolinaopry.com/event/the-carolina-opry-christmas-special-6/2025-12-20/
LOCATION:The Carolina Opry\, 8901 N Kings Hwy\, Myrtle Beach\, SC\, 29572\, United States
CATEGORIES:Matinee,The Christmas Show of the South
ATTACH;FMTTYPE=image/png:https://thecarolinaopry.com/wp-content/uploads/2024/11/TCOCSThumbnail-e1766425098140.png
END:VEVENT
BEGIN:VEVENT
DTSTART;TZID=America/New_York:20251220T190000
DTEND;TZID=America/New_York:20251220T213000
DTSTAMP:20260421T090907
CREATED:20241101T140726Z
LAST-MODIFIED:20250408T183039Z
UID:10002624-1766257200-1766266200@thecarolinaopry.com
SUMMARY:The Carolina Opry Christmas Special
DESCRIPTION:
URL:https://thecarolinaopry.com/event/the-carolina-opry-christmas-special-5/2025-12-20/
LOCATION:The Carolina Opry\, 8901 N Kings Hwy\, Myrtle Beach\, SC\, 29572\, United States
CATEGORIES:Evening,The Christmas Show of the South
ATTACH;FMTTYPE=image/png:https://thecarolinaopry.com/wp-content/uploads/2024/11/TCOCSThumbnail-e1766425098140.png
END:VEVENT
BEGIN:VEVENT
DTSTART;TZID=America/New_York:20251222T190000
DTEND;TZID=America/New_York:20251222T213000
DTSTAMP:20260421T090907
CREATED:20241101T140726Z
LAST-MODIFIED:20250408T183039Z
UID:10002625-1766430000-1766439000@thecarolinaopry.com
SUMMARY:The Carolina Opry Christmas Special
DESCRIPTION:
URL:https://thecarolinaopry.com/event/the-carolina-opry-christmas-special-5/2025-12-22/
LOCATION:The Carolina Opry\, 8901 N Kings Hwy\, Myrtle Beach\, SC\, 29572\, United States
CATEGORIES:Evening,The Christmas Show of the South
ATTACH;FMTTYPE=image/png:https://thecarolinaopry.com/wp-content/uploads/2024/11/TCOCSThumbnail-e1766425098140.png
END:VEVENT
BEGIN:VEVENT
DTSTART;TZID=America/New_York:20251223T130000
DTEND;TZID=America/New_York:20251223T153000
DTSTAMP:20260421T090907
CREATED:20241101T140748Z
LAST-MODIFIED:20241217T202828Z
UID:10002647-1766494800-1766503800@thecarolinaopry.com
SUMMARY:The Carolina Opry Christmas Special
DESCRIPTION:
URL:https://thecarolinaopry.com/event/the-carolina-opry-christmas-special-6/2025-12-23/
LOCATION:The Carolina Opry\, 8901 N Kings Hwy\, Myrtle Beach\, SC\, 29572\, United States
CATEGORIES:Matinee,The Christmas Show of the South
ATTACH;FMTTYPE=image/png:https://thecarolinaopry.com/wp-content/uploads/2024/11/TCOCSThumbnail-e1766425098140.png
END:VEVENT
BEGIN:VEVENT
DTSTART;TZID=America/New_York:20251223T190000
DTEND;TZID=America/New_York:20251223T213000
DTSTAMP:20260421T090907
CREATED:20241101T140726Z
LAST-MODIFIED:20250408T183039Z
UID:10002626-1766516400-1766525400@thecarolinaopry.com
SUMMARY:The Carolina Opry Christmas Special
DESCRIPTION:
URL:https://thecarolinaopry.com/event/the-carolina-opry-christmas-special-5/2025-12-23/
LOCATION:The Carolina Opry\, 8901 N Kings Hwy\, Myrtle Beach\, SC\, 29572\, United States
CATEGORIES:Evening,The Christmas Show of the South
ATTACH;FMTTYPE=image/png:https://thecarolinaopry.com/wp-content/uploads/2024/11/TCOCSThumbnail-e1766425098140.png
END:VEVENT
BEGIN:VEVENT
DTSTART;TZID=America/New_York:20251227T130000
DTEND;TZID=America/New_York:20251227T153000
DTSTAMP:20260421T090907
CREATED:20241101T140748Z
LAST-MODIFIED:20241217T202828Z
UID:10002648-1766840400-1766849400@thecarolinaopry.com
SUMMARY:The Carolina Opry Christmas Special
DESCRIPTION:
URL:https://thecarolinaopry.com/event/the-carolina-opry-christmas-special-6/2025-12-27/
LOCATION:The Carolina Opry\, 8901 N Kings Hwy\, Myrtle Beach\, SC\, 29572\, United States
CATEGORIES:Matinee,The Christmas Show of the South
ATTACH;FMTTYPE=image/png:https://thecarolinaopry.com/wp-content/uploads/2024/11/TCOCSThumbnail-e1766425098140.png
END:VEVENT
BEGIN:VEVENT
DTSTART;TZID=America/New_York:20251227T190000
DTEND;TZID=America/New_York:20251227T213000
DTSTAMP:20260421T090907
CREATED:20241101T140726Z
LAST-MODIFIED:20250408T183039Z
UID:10002649-1766862000-1766871000@thecarolinaopry.com
SUMMARY:The Carolina Opry Christmas Special
DESCRIPTION:
URL:https://thecarolinaopry.com/event/the-carolina-opry-christmas-special-5/2025-12-27/
LOCATION:The Carolina Opry\, 8901 N Kings Hwy\, Myrtle Beach\, SC\, 29572\, United States
CATEGORIES:Evening,The Christmas Show of the South
ATTACH;FMTTYPE=image/png:https://thecarolinaopry.com/wp-content/uploads/2024/11/TCOCSThumbnail-e1766425098140.png
END:VEVENT
END:VCALENDAR