BEGIN:VCALENDAR
VERSION:2.0
PRODID:-//The Carolina Opry Theater - ECPv6.15.20//NONSGML v1.0//EN
CALSCALE:GREGORIAN
METHOD:PUBLISH
X-WR-CALNAME:The Carolina Opry Theater
X-ORIGINAL-URL:https://thecarolinaopry.com
X-WR-CALDESC:Events for The Carolina Opry Theater
REFRESH-INTERVAL;VALUE=DURATION:PT1H
X-Robots-Tag:noindex
X-PUBLISHED-TTL:PT1H
BEGIN:VTIMEZONE
TZID:America/New_York
BEGIN:DAYLIGHT
TZOFFSETFROM:-0500
TZOFFSETTO:-0400
TZNAME:EDT
DTSTART:20240310T070000
END:DAYLIGHT
BEGIN:STANDARD
TZOFFSETFROM:-0400
TZOFFSETTO:-0500
TZNAME:EST
DTSTART:20241103T060000
END:STANDARD
BEGIN:DAYLIGHT
TZOFFSETFROM:-0500
TZOFFSETTO:-0400
TZNAME:EDT
DTSTART:20250309T070000
END:DAYLIGHT
BEGIN:STANDARD
TZOFFSETFROM:-0400
TZOFFSETTO:-0500
TZNAME:EST
DTSTART:20251102T060000
END:STANDARD
BEGIN:DAYLIGHT
TZOFFSETFROM:-0500
TZOFFSETTO:-0400
TZNAME:EDT
DTSTART:20260308T070000
END:DAYLIGHT
BEGIN:STANDARD
TZOFFSETFROM:-0400
TZOFFSETTO:-0500
TZNAME:EST
DTSTART:20261101T060000
END:STANDARD
END:VTIMEZONE
BEGIN:VEVENT
DTSTART;TZID=America/New_York:20251101T190000
DTEND;TZID=America/New_York:20251101T213000
DTSTAMP:20260421T102306
CREATED:20241101T140726Z
LAST-MODIFIED:20250408T183039Z
UID:10002582-1762023600-1762032600@thecarolinaopry.com
SUMMARY:The Carolina Opry Christmas Special
DESCRIPTION:
URL:https://thecarolinaopry.com/event/the-carolina-opry-christmas-special-5/2025-11-01/
LOCATION:The Carolina Opry\, 8901 N Kings Hwy\, Myrtle Beach\, SC\, 29572\, United States
CATEGORIES:Evening,The Christmas Show of the South
ATTACH;FMTTYPE=image/png:https://thecarolinaopry.com/wp-content/uploads/2024/11/TCOCSThumbnail-e1766425098140.png
END:VEVENT
BEGIN:VEVENT
DTSTART;TZID=America/New_York:20251103T190000
DTEND;TZID=America/New_York:20251103T213000
DTSTAMP:20260421T102306
CREATED:20241101T140726Z
LAST-MODIFIED:20250408T183039Z
UID:10002583-1762196400-1762205400@thecarolinaopry.com
SUMMARY:The Carolina Opry Christmas Special
DESCRIPTION:
URL:https://thecarolinaopry.com/event/the-carolina-opry-christmas-special-5/2025-11-03/
LOCATION:The Carolina Opry\, 8901 N Kings Hwy\, Myrtle Beach\, SC\, 29572\, United States
CATEGORIES:Evening,The Christmas Show of the South
ATTACH;FMTTYPE=image/png:https://thecarolinaopry.com/wp-content/uploads/2024/11/TCOCSThumbnail-e1766425098140.png
END:VEVENT
BEGIN:VEVENT
DTSTART;TZID=America/New_York:20251104T130000
DTEND;TZID=America/New_York:20251104T153000
DTSTAMP:20260421T102306
CREATED:20241101T140748Z
LAST-MODIFIED:20241217T202828Z
UID:10002921-1762261200-1762270200@thecarolinaopry.com
SUMMARY:The Carolina Opry Christmas Special
DESCRIPTION:
URL:https://thecarolinaopry.com/event/the-carolina-opry-christmas-special-6/2025-11-04/
LOCATION:The Carolina Opry\, 8901 N Kings Hwy\, Myrtle Beach\, SC\, 29572\, United States
CATEGORIES:Matinee,The Christmas Show of the South
ATTACH;FMTTYPE=image/png:https://thecarolinaopry.com/wp-content/uploads/2024/11/TCOCSThumbnail-e1766425098140.png
END:VEVENT
BEGIN:VEVENT
DTSTART;TZID=America/New_York:20251104T190000
DTEND;TZID=America/New_York:20251104T213000
DTSTAMP:20260421T102306
CREATED:20241101T140726Z
LAST-MODIFIED:20250408T183039Z
UID:10002584-1762282800-1762291800@thecarolinaopry.com
SUMMARY:The Carolina Opry Christmas Special
DESCRIPTION:
URL:https://thecarolinaopry.com/event/the-carolina-opry-christmas-special-5/2025-11-04/
LOCATION:The Carolina Opry\, 8901 N Kings Hwy\, Myrtle Beach\, SC\, 29572\, United States
CATEGORIES:Evening,The Christmas Show of the South
ATTACH;FMTTYPE=image/png:https://thecarolinaopry.com/wp-content/uploads/2024/11/TCOCSThumbnail-e1766425098140.png
END:VEVENT
BEGIN:VEVENT
DTSTART;TZID=America/New_York:20251106T130000
DTEND;TZID=America/New_York:20251106T153000
DTSTAMP:20260421T102306
CREATED:20241101T140748Z
LAST-MODIFIED:20241217T202828Z
UID:10002925-1762434000-1762443000@thecarolinaopry.com
SUMMARY:The Carolina Opry Christmas Special
DESCRIPTION:
URL:https://thecarolinaopry.com/event/the-carolina-opry-christmas-special-6/2025-11-06/
LOCATION:The Carolina Opry\, 8901 N Kings Hwy\, Myrtle Beach\, SC\, 29572\, United States
CATEGORIES:Matinee,The Christmas Show of the South
ATTACH;FMTTYPE=image/png:https://thecarolinaopry.com/wp-content/uploads/2024/11/TCOCSThumbnail-e1766425098140.png
END:VEVENT
BEGIN:VEVENT
DTSTART;TZID=America/New_York:20251106T190000
DTEND;TZID=America/New_York:20251106T213000
DTSTAMP:20260421T102306
CREATED:20241101T140726Z
LAST-MODIFIED:20250408T183039Z
UID:10002586-1762455600-1762464600@thecarolinaopry.com
SUMMARY:The Carolina Opry Christmas Special
DESCRIPTION:
URL:https://thecarolinaopry.com/event/the-carolina-opry-christmas-special-5/2025-11-06/
LOCATION:The Carolina Opry\, 8901 N Kings Hwy\, Myrtle Beach\, SC\, 29572\, United States
CATEGORIES:Evening,The Christmas Show of the South
ATTACH;FMTTYPE=image/png:https://thecarolinaopry.com/wp-content/uploads/2024/11/TCOCSThumbnail-e1766425098140.png
END:VEVENT
BEGIN:VEVENT
DTSTART;TZID=America/New_York:20251107T190000
DTEND;TZID=America/New_York:20251107T213000
DTSTAMP:20260421T102306
CREATED:20241101T140726Z
LAST-MODIFIED:20250408T183039Z
UID:10002587-1762542000-1762551000@thecarolinaopry.com
SUMMARY:The Carolina Opry Christmas Special
DESCRIPTION:
URL:https://thecarolinaopry.com/event/the-carolina-opry-christmas-special-5/2025-11-07/
LOCATION:The Carolina Opry\, 8901 N Kings Hwy\, Myrtle Beach\, SC\, 29572\, United States
CATEGORIES:Evening,The Christmas Show of the South
ATTACH;FMTTYPE=image/png:https://thecarolinaopry.com/wp-content/uploads/2024/11/TCOCSThumbnail-e1766425098140.png
END:VEVENT
BEGIN:VEVENT
DTSTART;TZID=America/New_York:20251108T130000
DTEND;TZID=America/New_York:20251108T153000
DTSTAMP:20260421T102306
CREATED:20241101T140748Z
LAST-MODIFIED:20241217T202828Z
UID:10002631-1762606800-1762615800@thecarolinaopry.com
SUMMARY:The Carolina Opry Christmas Special
DESCRIPTION:
URL:https://thecarolinaopry.com/event/the-carolina-opry-christmas-special-6/2025-11-08/
LOCATION:The Carolina Opry\, 8901 N Kings Hwy\, Myrtle Beach\, SC\, 29572\, United States
CATEGORIES:Matinee,The Christmas Show of the South
ATTACH;FMTTYPE=image/png:https://thecarolinaopry.com/wp-content/uploads/2024/11/TCOCSThumbnail-e1766425098140.png
END:VEVENT
BEGIN:VEVENT
DTSTART;TZID=America/New_York:20251108T190000
DTEND;TZID=America/New_York:20251108T213000
DTSTAMP:20260421T102306
CREATED:20241101T140726Z
LAST-MODIFIED:20250408T183039Z
UID:10002588-1762628400-1762637400@thecarolinaopry.com
SUMMARY:The Carolina Opry Christmas Special
DESCRIPTION:
URL:https://thecarolinaopry.com/event/the-carolina-opry-christmas-special-5/2025-11-08/
LOCATION:The Carolina Opry\, 8901 N Kings Hwy\, Myrtle Beach\, SC\, 29572\, United States
CATEGORIES:Evening,The Christmas Show of the South
ATTACH;FMTTYPE=image/png:https://thecarolinaopry.com/wp-content/uploads/2024/11/TCOCSThumbnail-e1766425098140.png
END:VEVENT
BEGIN:VEVENT
DTSTART;TZID=America/New_York:20251110T190000
DTEND;TZID=America/New_York:20251110T213000
DTSTAMP:20260421T102306
CREATED:20241101T140726Z
LAST-MODIFIED:20250408T183039Z
UID:10002589-1762801200-1762810200@thecarolinaopry.com
SUMMARY:The Carolina Opry Christmas Special
DESCRIPTION:
URL:https://thecarolinaopry.com/event/the-carolina-opry-christmas-special-5/2025-11-10/
LOCATION:The Carolina Opry\, 8901 N Kings Hwy\, Myrtle Beach\, SC\, 29572\, United States
CATEGORIES:Evening,The Christmas Show of the South
ATTACH;FMTTYPE=image/png:https://thecarolinaopry.com/wp-content/uploads/2024/11/TCOCSThumbnail-e1766425098140.png
END:VEVENT
BEGIN:VEVENT
DTSTART;TZID=America/New_York:20251111T130000
DTEND;TZID=America/New_York:20251111T153000
DTSTAMP:20260421T102306
CREATED:20241101T140748Z
LAST-MODIFIED:20241217T202828Z
UID:10002632-1762866000-1762875000@thecarolinaopry.com
SUMMARY:The Carolina Opry Christmas Special
DESCRIPTION:
URL:https://thecarolinaopry.com/event/the-carolina-opry-christmas-special-6/2025-11-11/
LOCATION:The Carolina Opry\, 8901 N Kings Hwy\, Myrtle Beach\, SC\, 29572\, United States
CATEGORIES:Matinee,The Christmas Show of the South
ATTACH;FMTTYPE=image/png:https://thecarolinaopry.com/wp-content/uploads/2024/11/TCOCSThumbnail-e1766425098140.png
END:VEVENT
BEGIN:VEVENT
DTSTART;TZID=America/New_York:20251111T190000
DTEND;TZID=America/New_York:20251111T213000
DTSTAMP:20260421T102306
CREATED:20241101T140726Z
LAST-MODIFIED:20250408T183039Z
UID:10002590-1762887600-1762896600@thecarolinaopry.com
SUMMARY:The Carolina Opry Christmas Special
DESCRIPTION:
URL:https://thecarolinaopry.com/event/the-carolina-opry-christmas-special-5/2025-11-11/
LOCATION:The Carolina Opry\, 8901 N Kings Hwy\, Myrtle Beach\, SC\, 29572\, United States
CATEGORIES:Evening,The Christmas Show of the South
ATTACH;FMTTYPE=image/png:https://thecarolinaopry.com/wp-content/uploads/2024/11/TCOCSThumbnail-e1766425098140.png
END:VEVENT
BEGIN:VEVENT
DTSTART;TZID=America/New_York:20251113T130000
DTEND;TZID=America/New_York:20251113T153000
DTSTAMP:20260421T102306
CREATED:20241101T140748Z
LAST-MODIFIED:20241217T202828Z
UID:10002926-1763038800-1763047800@thecarolinaopry.com
SUMMARY:The Carolina Opry Christmas Special
DESCRIPTION:
URL:https://thecarolinaopry.com/event/the-carolina-opry-christmas-special-6/2025-11-13/
LOCATION:The Carolina Opry\, 8901 N Kings Hwy\, Myrtle Beach\, SC\, 29572\, United States
CATEGORIES:Matinee,The Christmas Show of the South
ATTACH;FMTTYPE=image/png:https://thecarolinaopry.com/wp-content/uploads/2024/11/TCOCSThumbnail-e1766425098140.png
END:VEVENT
BEGIN:VEVENT
DTSTART;TZID=America/New_York:20251113T190000
DTEND;TZID=America/New_York:20251113T213000
DTSTAMP:20260421T102306
CREATED:20241101T140726Z
LAST-MODIFIED:20250408T183039Z
UID:10002592-1763060400-1763069400@thecarolinaopry.com
SUMMARY:The Carolina Opry Christmas Special
DESCRIPTION:
URL:https://thecarolinaopry.com/event/the-carolina-opry-christmas-special-5/2025-11-13/
LOCATION:The Carolina Opry\, 8901 N Kings Hwy\, Myrtle Beach\, SC\, 29572\, United States
CATEGORIES:Evening,The Christmas Show of the South
ATTACH;FMTTYPE=image/png:https://thecarolinaopry.com/wp-content/uploads/2024/11/TCOCSThumbnail-e1766425098140.png
END:VEVENT
BEGIN:VEVENT
DTSTART;TZID=America/New_York:20251114T190000
DTEND;TZID=America/New_York:20251114T213000
DTSTAMP:20260421T102306
CREATED:20241101T140726Z
LAST-MODIFIED:20250408T183039Z
UID:10002593-1763146800-1763155800@thecarolinaopry.com
SUMMARY:The Carolina Opry Christmas Special
DESCRIPTION:
URL:https://thecarolinaopry.com/event/the-carolina-opry-christmas-special-5/2025-11-14/
LOCATION:The Carolina Opry\, 8901 N Kings Hwy\, Myrtle Beach\, SC\, 29572\, United States
CATEGORIES:Evening,The Christmas Show of the South
ATTACH;FMTTYPE=image/png:https://thecarolinaopry.com/wp-content/uploads/2024/11/TCOCSThumbnail-e1766425098140.png
END:VEVENT
BEGIN:VEVENT
DTSTART;TZID=America/New_York:20251115T130000
DTEND;TZID=America/New_York:20251115T153000
DTSTAMP:20260421T102306
CREATED:20241101T140748Z
LAST-MODIFIED:20241217T202828Z
UID:10002634-1763211600-1763220600@thecarolinaopry.com
SUMMARY:The Carolina Opry Christmas Special
DESCRIPTION:
URL:https://thecarolinaopry.com/event/the-carolina-opry-christmas-special-6/2025-11-15/
LOCATION:The Carolina Opry\, 8901 N Kings Hwy\, Myrtle Beach\, SC\, 29572\, United States
CATEGORIES:Matinee,The Christmas Show of the South
ATTACH;FMTTYPE=image/png:https://thecarolinaopry.com/wp-content/uploads/2024/11/TCOCSThumbnail-e1766425098140.png
END:VEVENT
BEGIN:VEVENT
DTSTART;TZID=America/New_York:20251115T190000
DTEND;TZID=America/New_York:20251115T213000
DTSTAMP:20260421T102306
CREATED:20241101T140726Z
LAST-MODIFIED:20250408T183039Z
UID:10002594-1763233200-1763242200@thecarolinaopry.com
SUMMARY:The Carolina Opry Christmas Special
DESCRIPTION:
URL:https://thecarolinaopry.com/event/the-carolina-opry-christmas-special-5/2025-11-15/
LOCATION:The Carolina Opry\, 8901 N Kings Hwy\, Myrtle Beach\, SC\, 29572\, United States
CATEGORIES:Evening,The Christmas Show of the South
ATTACH;FMTTYPE=image/png:https://thecarolinaopry.com/wp-content/uploads/2024/11/TCOCSThumbnail-e1766425098140.png
END:VEVENT
BEGIN:VEVENT
DTSTART;TZID=America/New_York:20251117T190000
DTEND;TZID=America/New_York:20251117T213000
DTSTAMP:20260421T102306
CREATED:20241101T140726Z
LAST-MODIFIED:20250408T183039Z
UID:10002595-1763406000-1763415000@thecarolinaopry.com
SUMMARY:The Carolina Opry Christmas Special
DESCRIPTION:
URL:https://thecarolinaopry.com/event/the-carolina-opry-christmas-special-5/2025-11-17/
LOCATION:The Carolina Opry\, 8901 N Kings Hwy\, Myrtle Beach\, SC\, 29572\, United States
CATEGORIES:Evening,The Christmas Show of the South
ATTACH;FMTTYPE=image/png:https://thecarolinaopry.com/wp-content/uploads/2024/11/TCOCSThumbnail-e1766425098140.png
END:VEVENT
BEGIN:VEVENT
DTSTART;TZID=America/New_York:20251118T130000
DTEND;TZID=America/New_York:20251118T153000
DTSTAMP:20260421T102306
CREATED:20241101T140748Z
LAST-MODIFIED:20241217T202828Z
UID:10002635-1763470800-1763479800@thecarolinaopry.com
SUMMARY:The Carolina Opry Christmas Special
DESCRIPTION:
URL:https://thecarolinaopry.com/event/the-carolina-opry-christmas-special-6/2025-11-18/
LOCATION:The Carolina Opry\, 8901 N Kings Hwy\, Myrtle Beach\, SC\, 29572\, United States
CATEGORIES:Matinee,The Christmas Show of the South
ATTACH;FMTTYPE=image/png:https://thecarolinaopry.com/wp-content/uploads/2024/11/TCOCSThumbnail-e1766425098140.png
END:VEVENT
BEGIN:VEVENT
DTSTART;TZID=America/New_York:20251118T190000
DTEND;TZID=America/New_York:20251118T213000
DTSTAMP:20260421T102306
CREATED:20241101T140726Z
LAST-MODIFIED:20250408T183039Z
UID:10002596-1763492400-1763501400@thecarolinaopry.com
SUMMARY:The Carolina Opry Christmas Special
DESCRIPTION:
URL:https://thecarolinaopry.com/event/the-carolina-opry-christmas-special-5/2025-11-18/
LOCATION:The Carolina Opry\, 8901 N Kings Hwy\, Myrtle Beach\, SC\, 29572\, United States
CATEGORIES:Evening,The Christmas Show of the South
ATTACH;FMTTYPE=image/png:https://thecarolinaopry.com/wp-content/uploads/2024/11/TCOCSThumbnail-e1766425098140.png
END:VEVENT
BEGIN:VEVENT
DTSTART;TZID=America/New_York:20251120T130000
DTEND;TZID=America/New_York:20251120T153000
DTSTAMP:20260421T102306
CREATED:20241101T140748Z
LAST-MODIFIED:20241217T202828Z
UID:10002927-1763643600-1763652600@thecarolinaopry.com
SUMMARY:The Carolina Opry Christmas Special
DESCRIPTION:
URL:https://thecarolinaopry.com/event/the-carolina-opry-christmas-special-6/2025-11-20/
LOCATION:The Carolina Opry\, 8901 N Kings Hwy\, Myrtle Beach\, SC\, 29572\, United States
CATEGORIES:Matinee,The Christmas Show of the South
ATTACH;FMTTYPE=image/png:https://thecarolinaopry.com/wp-content/uploads/2024/11/TCOCSThumbnail-e1766425098140.png
END:VEVENT
BEGIN:VEVENT
DTSTART;TZID=America/New_York:20251120T190000
DTEND;TZID=America/New_York:20251120T213000
DTSTAMP:20260421T102306
CREATED:20241101T140726Z
LAST-MODIFIED:20250408T183039Z
UID:10002598-1763665200-1763674200@thecarolinaopry.com
SUMMARY:The Carolina Opry Christmas Special
DESCRIPTION:
URL:https://thecarolinaopry.com/event/the-carolina-opry-christmas-special-5/2025-11-20/
LOCATION:The Carolina Opry\, 8901 N Kings Hwy\, Myrtle Beach\, SC\, 29572\, United States
CATEGORIES:Evening,The Christmas Show of the South
ATTACH;FMTTYPE=image/png:https://thecarolinaopry.com/wp-content/uploads/2024/11/TCOCSThumbnail-e1766425098140.png
END:VEVENT
BEGIN:VEVENT
DTSTART;TZID=America/New_York:20251121T190000
DTEND;TZID=America/New_York:20251121T213000
DTSTAMP:20260421T102306
CREATED:20241101T140726Z
LAST-MODIFIED:20250408T183039Z
UID:10002599-1763751600-1763760600@thecarolinaopry.com
SUMMARY:The Carolina Opry Christmas Special
DESCRIPTION:
URL:https://thecarolinaopry.com/event/the-carolina-opry-christmas-special-5/2025-11-21/
LOCATION:The Carolina Opry\, 8901 N Kings Hwy\, Myrtle Beach\, SC\, 29572\, United States
CATEGORIES:Evening,The Christmas Show of the South
ATTACH;FMTTYPE=image/png:https://thecarolinaopry.com/wp-content/uploads/2024/11/TCOCSThumbnail-e1766425098140.png
END:VEVENT
BEGIN:VEVENT
DTSTART;TZID=America/New_York:20251122T130000
DTEND;TZID=America/New_York:20251122T153000
DTSTAMP:20260421T102306
CREATED:20241101T140748Z
LAST-MODIFIED:20241217T202828Z
UID:10002637-1763816400-1763825400@thecarolinaopry.com
SUMMARY:The Carolina Opry Christmas Special
DESCRIPTION:
URL:https://thecarolinaopry.com/event/the-carolina-opry-christmas-special-6/2025-11-22/
LOCATION:The Carolina Opry\, 8901 N Kings Hwy\, Myrtle Beach\, SC\, 29572\, United States
CATEGORIES:Matinee,The Christmas Show of the South
ATTACH;FMTTYPE=image/png:https://thecarolinaopry.com/wp-content/uploads/2024/11/TCOCSThumbnail-e1766425098140.png
END:VEVENT
BEGIN:VEVENT
DTSTART;TZID=America/New_York:20251122T190000
DTEND;TZID=America/New_York:20251122T213000
DTSTAMP:20260421T102306
CREATED:20241101T140726Z
LAST-MODIFIED:20250408T183039Z
UID:10002600-1763838000-1763847000@thecarolinaopry.com
SUMMARY:The Carolina Opry Christmas Special
DESCRIPTION:
URL:https://thecarolinaopry.com/event/the-carolina-opry-christmas-special-5/2025-11-22/
LOCATION:The Carolina Opry\, 8901 N Kings Hwy\, Myrtle Beach\, SC\, 29572\, United States
CATEGORIES:Evening,The Christmas Show of the South
ATTACH;FMTTYPE=image/png:https://thecarolinaopry.com/wp-content/uploads/2024/11/TCOCSThumbnail-e1766425098140.png
END:VEVENT
BEGIN:VEVENT
DTSTART;TZID=America/New_York:20251124T190000
DTEND;TZID=America/New_York:20251124T213000
DTSTAMP:20260421T102306
CREATED:20241101T140726Z
LAST-MODIFIED:20250408T183039Z
UID:10002601-1764010800-1764019800@thecarolinaopry.com
SUMMARY:The Carolina Opry Christmas Special
DESCRIPTION:
URL:https://thecarolinaopry.com/event/the-carolina-opry-christmas-special-5/2025-11-24/
LOCATION:The Carolina Opry\, 8901 N Kings Hwy\, Myrtle Beach\, SC\, 29572\, United States
CATEGORIES:Evening,The Christmas Show of the South
ATTACH;FMTTYPE=image/png:https://thecarolinaopry.com/wp-content/uploads/2024/11/TCOCSThumbnail-e1766425098140.png
END:VEVENT
BEGIN:VEVENT
DTSTART;TZID=America/New_York:20251125T190000
DTEND;TZID=America/New_York:20251125T213000
DTSTAMP:20260421T102306
CREATED:20241101T140726Z
LAST-MODIFIED:20250408T183039Z
UID:10002602-1764097200-1764106200@thecarolinaopry.com
SUMMARY:The Carolina Opry Christmas Special
DESCRIPTION:
URL:https://thecarolinaopry.com/event/the-carolina-opry-christmas-special-5/2025-11-25/
LOCATION:The Carolina Opry\, 8901 N Kings Hwy\, Myrtle Beach\, SC\, 29572\, United States
CATEGORIES:Evening,The Christmas Show of the South
ATTACH;FMTTYPE=image/png:https://thecarolinaopry.com/wp-content/uploads/2024/11/TCOCSThumbnail-e1766425098140.png
END:VEVENT
BEGIN:VEVENT
DTSTART;TZID=America/New_York:20251126T190000
DTEND;TZID=America/New_York:20251126T213000
DTSTAMP:20260421T102306
CREATED:20241101T140726Z
LAST-MODIFIED:20250408T183039Z
UID:10002603-1764183600-1764192600@thecarolinaopry.com
SUMMARY:The Carolina Opry Christmas Special
DESCRIPTION:
URL:https://thecarolinaopry.com/event/the-carolina-opry-christmas-special-5/2025-11-26/
LOCATION:The Carolina Opry\, 8901 N Kings Hwy\, Myrtle Beach\, SC\, 29572\, United States
CATEGORIES:Evening,The Christmas Show of the South
ATTACH;FMTTYPE=image/png:https://thecarolinaopry.com/wp-content/uploads/2024/11/TCOCSThumbnail-e1766425098140.png
END:VEVENT
BEGIN:VEVENT
DTSTART;TZID=America/New_York:20251128T130000
DTEND;TZID=America/New_York:20251128T153000
DTSTAMP:20260421T102306
CREATED:20241101T140748Z
LAST-MODIFIED:20241217T202828Z
UID:10002533-1764334800-1764343800@thecarolinaopry.com
SUMMARY:The Carolina Opry Christmas Special
DESCRIPTION:
URL:https://thecarolinaopry.com/event/the-carolina-opry-christmas-special-6/2025-11-28/
LOCATION:The Carolina Opry\, 8901 N Kings Hwy\, Myrtle Beach\, SC\, 29572\, United States
CATEGORIES:Matinee,The Christmas Show of the South
ATTACH;FMTTYPE=image/png:https://thecarolinaopry.com/wp-content/uploads/2024/11/TCOCSThumbnail-e1766425098140.png
END:VEVENT
BEGIN:VEVENT
DTSTART;TZID=America/New_York:20251128T190000
DTEND;TZID=America/New_York:20251128T213000
DTSTAMP:20260421T102306
CREATED:20241101T140726Z
LAST-MODIFIED:20250408T183039Z
UID:10002605-1764356400-1764365400@thecarolinaopry.com
SUMMARY:The Carolina Opry Christmas Special
DESCRIPTION:
URL:https://thecarolinaopry.com/event/the-carolina-opry-christmas-special-5/2025-11-28/
LOCATION:The Carolina Opry\, 8901 N Kings Hwy\, Myrtle Beach\, SC\, 29572\, United States
CATEGORIES:Evening,The Christmas Show of the South
ATTACH;FMTTYPE=image/png:https://thecarolinaopry.com/wp-content/uploads/2024/11/TCOCSThumbnail-e1766425098140.png
END:VEVENT
END:VCALENDAR