BEGIN:VCALENDAR
VERSION:2.0
PRODID:-//The Carolina Opry Theater - ECPv6.15.20//NONSGML v1.0//EN
CALSCALE:GREGORIAN
METHOD:PUBLISH
X-WR-CALNAME:The Carolina Opry Theater
X-ORIGINAL-URL:https://thecarolinaopry.com
X-WR-CALDESC:Events for The Carolina Opry Theater
REFRESH-INTERVAL;VALUE=DURATION:PT1H
X-Robots-Tag:noindex
X-PUBLISHED-TTL:PT1H
BEGIN:VTIMEZONE
TZID:America/New_York
BEGIN:DAYLIGHT
TZOFFSETFROM:-0500
TZOFFSETTO:-0400
TZNAME:EDT
DTSTART:20250309T070000
END:DAYLIGHT
BEGIN:STANDARD
TZOFFSETFROM:-0400
TZOFFSETTO:-0500
TZNAME:EST
DTSTART:20251102T060000
END:STANDARD
BEGIN:DAYLIGHT
TZOFFSETFROM:-0500
TZOFFSETTO:-0400
TZNAME:EDT
DTSTART:20260308T070000
END:DAYLIGHT
BEGIN:STANDARD
TZOFFSETFROM:-0400
TZOFFSETTO:-0500
TZNAME:EST
DTSTART:20261101T060000
END:STANDARD
BEGIN:DAYLIGHT
TZOFFSETFROM:-0500
TZOFFSETTO:-0400
TZNAME:EDT
DTSTART:20270314T070000
END:DAYLIGHT
BEGIN:STANDARD
TZOFFSETFROM:-0400
TZOFFSETTO:-0500
TZNAME:EST
DTSTART:20271107T060000
END:STANDARD
END:VTIMEZONE
BEGIN:VEVENT
DTSTART;TZID=America/New_York:20260424T190000
DTEND;TZID=America/New_York:20260424T203000
DTSTAMP:20260422T100704
CREATED:20230907T142513Z
LAST-MODIFIED:20260417T153248Z
UID:10000972-1777057200-1777062600@thecarolinaopry.com
SUMMARY:AIR SUPPLY – 50th Anniversary Celebration
DESCRIPTION:Air Supply\, the legendary soft rock duo of Graham Russell and Russell Hitchcock\, has been enchanting and electrifying audiences worldwide for over four decades. With timeless anthems like “All Out of Love” and “Lost in Love\,” their harmonious vocals\, powerful hooks\, and melodic tunes have secured them a global fanbase. Their music\, characterized by heartfelt lyrics and raw emotion has transcended generations\, resonating with both old-school rockers and new fans alike. \nThe duo’s journey began in 1975\, when they met during a production of “Jesus Christ Superstar” in Australia. They quickly formed an unstoppable partnership\, releasing numerous successful albums and selling out venues across the globe.  Whether you’re a longtime fan or discovering their music for the first time\, Air Supply’s concert is sure to be an unforgettable\, epic night of rock and roll that will leave you craving more. \nAir Supply – 50th Anniversary Celebration will be live at The Carolina Opry Theater on Friday\, April 24\, 2026 at 7:00pm. Tickets are on sale now – Click ‘GET TICKETS’ to purchase! \n  \n  \n\nAir Supply’s VIP Meet & Greet has sold out for this performance:\n\nAttend Soundcheck + Q&A Session with Air Supply\nPhoto Meet & Greet with Air Supply\nCollectible VIP laminate\n\n*Limited number of packages per show. Meet & Greet experience fulfilled by Insiders Experiences. \n\n\n\n\n  \n  \nPlease note that events in the Performing Arts Series are independently produced and managed by the respective performers or event organizers. The theater provides the performance space but does not oversee or control show content\, performers\, sound\, or lighting design\, run time\, or photography/recording policies. Performer lineups and show content are subject to change at the discretion of the organizer without prior notice. The theater assumes no liability for changes to the advertised program or for the conduct of the producing party.
URL:https://thecarolinaopry.com/event/air-supply/
LOCATION:The Carolina Opry\, 8901 N Kings Hwy\, Myrtle Beach\, SC\, 29572\, United States
CATEGORIES:Celebrity,Concert Series
ATTACH;FMTTYPE=image/png:https://thecarolinaopry.com/wp-content/uploads/2023/09/AirSupply50webheader2.png
END:VEVENT
BEGIN:VEVENT
DTSTART;TZID=America/New_York:20260426T190000
DTEND;TZID=America/New_York:20260426T203000
DTSTAMP:20260422T100704
CREATED:20251020T181744Z
LAST-MODIFIED:20260420T174830Z
UID:10003414-1777230000-1777235400@thecarolinaopry.com
SUMMARY:ROOTS & BOOTS - Sammy Kershaw\, Collin Raye\, Aaron Tippin
DESCRIPTION:Get ready for a powerhouse night of pure country magic as Sammy Kershaw\, Collin Raye\, and Aaron Tippin team up once again for the Roots & Boots Tour! \nIt doesn’t get more authentic than this — three country legends\, one unforgettable show\, bringing decades of hits and stories to the stage. From heartfelt ballads to boot-stomping anthems\, it’s a celebration of real country music at its best. \nHear timeless favorites like “She Don’t Know She’s Beautiful\,” “That’s My Story\,” “There Ain’t Nothin’ Wrong with the Radio\,” “Kiss This\,” “Third Rate Romance\,” “Love\, Me\,” “I’m Tired of Pretending\,” “You’ve Got to Stand for Something\,” “Where the Stars and Stripes and the Eagle Fly\,” and so many more — all performed by the voices that made them famous. \nDon’t miss three icons\, one stage\, and one incredible night of authentic country hits\, powerhouse vocals\, and unforgettable performances that capture the true spirit of country music. \nRoots & Boots starring Sammy Kershaw\, Collin Raye\, and Aaron Tippin will be live at The Carolina Opry Theater on Sunday\, April 26\, 2026 at 7:00pm. Tickets are on sale now – click ‘Get Tickets’ to purchase! \n  \nPlease note that events in the Performing Arts Series are independently produced and managed by the respective performers or event organizers. The theater provides the performance space but does not oversee or control show content\, performers\, sound\, or lighting design\, run time\, or photography/recording policies. Performer lineups and show content are subject to change at the discretion of the organizer without prior notice. The theater assumes no liability for changes to the advertised program or for the conduct of the producing party.
URL:https://thecarolinaopry.com/event/roots-and-boots/
LOCATION:The Carolina Opry\, 8901 N Kings Hwy\, Myrtle Beach\, SC\, 29572\, United States
CATEGORIES:Celebrity,Concert Series,Featured
ATTACH;FMTTYPE=image/png:https://thecarolinaopry.com/wp-content/uploads/2025/10/webheaderroots.png
END:VEVENT
END:VCALENDAR